BEGIN:VCALENDAR
VERSION:2.0
PRODID:-//Welcome to Love Lutheran Church - ECPv6.8.3//NONSGML v1.0//EN
CALSCALE:GREGORIAN
METHOD:PUBLISH
X-WR-CALNAME:Welcome to Love Lutheran Church
X-ORIGINAL-URL:https://lovelutheranlcms.com
X-WR-CALDESC:Events for Welcome to Love Lutheran Church
REFRESH-INTERVAL;VALUE=DURATION:PT1H
X-Robots-Tag:noindex
X-PUBLISHED-TTL:PT1H
BEGIN:VTIMEZONE
TZID:America/New_York
BEGIN:DAYLIGHT
TZOFFSETFROM:-0500
TZOFFSETTO:-0400
TZNAME:EDT
DTSTART:20240310T070000
END:DAYLIGHT
BEGIN:STANDARD
TZOFFSETFROM:-0400
TZOFFSETTO:-0500
TZNAME:EST
DTSTART:20241103T060000
END:STANDARD
END:VTIMEZONE
BEGIN:VEVENT
DTSTART;TZID=America/New_York:20240331T100000
DTEND;TZID=America/New_York:20240331T110000
DTSTAMP:20260420T020904
CREATED:20240211T212358Z
LAST-MODIFIED:20240211T212649Z
UID:112-1711879200-1711882800@lovelutheranlcms.com
SUMMARY:Easter Sermon
DESCRIPTION:Join us to celebrate the death and resurrection of our Lord and Savior Jesus Christ. He is risen indeed. Alleluia!
URL:https://lovelutheranlcms.com/index.php/event/easter-sermon/
LOCATION:Love Lutheran Church\, Pheasant Ln\, East Greenbush\, NY\, 12061\, United States
END:VEVENT
END:VCALENDAR